BEGIN:VCALENDAR
VERSION:2.0
PRODID:-//Les Vert·e·s genevois·es - ECPv6.15.15//NONSGML v1.0//EN
CALSCALE:GREGORIAN
METHOD:PUBLISH
X-WR-CALNAME:Les Vert·e·s genevois·es
X-ORIGINAL-URL:https://verts-ge.ch
X-WR-CALDESC:Évènements pour Les Vert·e·s genevois·es
REFRESH-INTERVAL;VALUE=DURATION:PT1H
X-Robots-Tag:noindex
X-PUBLISHED-TTL:PT1H
BEGIN:VTIMEZONE
TZID:Europe/Zurich
BEGIN:DAYLIGHT
TZOFFSETFROM:+0100
TZOFFSETTO:+0200
TZNAME:CEST
DTSTART:20200329T010000
END:DAYLIGHT
BEGIN:STANDARD
TZOFFSETFROM:+0200
TZOFFSETTO:+0100
TZNAME:CET
DTSTART:20201025T010000
END:STANDARD
BEGIN:DAYLIGHT
TZOFFSETFROM:+0100
TZOFFSETTO:+0200
TZNAME:CEST
DTSTART:20210328T010000
END:DAYLIGHT
BEGIN:STANDARD
TZOFFSETFROM:+0200
TZOFFSETTO:+0100
TZNAME:CET
DTSTART:20211031T010000
END:STANDARD
BEGIN:DAYLIGHT
TZOFFSETFROM:+0100
TZOFFSETTO:+0200
TZNAME:CEST
DTSTART:20220327T010000
END:DAYLIGHT
BEGIN:STANDARD
TZOFFSETFROM:+0200
TZOFFSETTO:+0100
TZNAME:CET
DTSTART:20221030T010000
END:STANDARD
END:VTIMEZONE
BEGIN:VEVENT
DTSTART;TZID=Europe/Zurich:20211125T193000
DTEND;TZID=Europe/Zurich:20211125T223000
DTSTAMP:20260421T045911
CREATED:20211115T104038Z
LAST-MODIFIED:20211122T101646Z
UID:10909-1637868600-1637879400@verts-ge.ch
SUMMARY:AG du 25 novembre\, 19h45\, à la Maison des Associations - Résolution Aménager notre territoire face à l’urgence climatique et votation du 13 février 2022
DESCRIPTION:
URL:https://verts-ge.ch/event/ag-du-25-novembre-19h45-a-la-maison-des-associations-resolution-amenager-notre-territoire-face-a-lurgence-climatique-et-votation-du-13-fevrier-2022/
LOCATION:Maison des Associations\, Rue des Savoises 15\, Genève\, Genève\, 1205\, Suisse
END:VEVENT
END:VCALENDAR