BEGIN:VCALENDAR
VERSION:2.0
PRODID:-//Les Vert·e·s genevois·es - ECPv6.0.10//NONSGML v1.0//EN
CALSCALE:GREGORIAN
METHOD:PUBLISH
X-WR-CALNAME:Les Vert·e·s genevois·es
X-ORIGINAL-URL:https://verts-ge.ch
X-WR-CALDESC:évènements pour Les Vert·e·s genevois·es
REFRESH-INTERVAL;VALUE=DURATION:PT1H
X-Robots-Tag:noindex
X-PUBLISHED-TTL:PT1H
BEGIN:VTIMEZONE
TZID:Europe/Zurich
BEGIN:DAYLIGHT
TZOFFSETFROM:+0100
TZOFFSETTO:+0200
TZNAME:CEST
DTSTART:20230326T010000
END:DAYLIGHT
BEGIN:STANDARD
TZOFFSETFROM:+0200
TZOFFSETTO:+0100
TZNAME:CET
DTSTART:20231029T010000
END:STANDARD
END:VTIMEZONE
BEGIN:VEVENT
DTSTART;TZID=Europe/Zurich:20230403T200000
DTEND;TZID=Europe/Zurich:20230403T223000
DTSTAMP:20230402T233726
CREATED:20230320T080040Z
LAST-MODIFIED:20230320T080040Z
UID:14294-1680552000-1680561000@verts-ge.ch
SUMMARY:Assemblée générale du 3 avril - Stratégie et désignation du / de la / des candidat-e-s au 2ème tour pour le Conseil d'Etat
DESCRIPTION:
URL:https://verts-ge.ch/event/assemblee-generale-du-3-avril-strategie-et-designation-du-de-la-des-candidat-e-s-au-2eme-tour-pour-le-conseil-detat/
LOCATION:Maison des Associations\, Rue des Savoises 15\, Genève\, Genève\, 1205\, Suisse
END:VEVENT
END:VCALENDAR