BEGIN:VCALENDAR
VERSION:2.0
PRODID:-//Les Vert·e·s genevois·es - ECPv6.15.15//NONSGML v1.0//EN
CALSCALE:GREGORIAN
METHOD:PUBLISH
X-WR-CALNAME:Les Vert·e·s genevois·es
X-ORIGINAL-URL:https://verts-ge.ch
X-WR-CALDESC:Évènements pour Les Vert·e·s genevois·es
REFRESH-INTERVAL;VALUE=DURATION:PT1H
X-Robots-Tag:noindex
X-PUBLISHED-TTL:PT1H
BEGIN:VTIMEZONE
TZID:Europe/Zurich
BEGIN:DAYLIGHT
TZOFFSETFROM:+0100
TZOFFSETTO:+0200
TZNAME:CEST
DTSTART:20200329T010000
END:DAYLIGHT
BEGIN:STANDARD
TZOFFSETFROM:+0200
TZOFFSETTO:+0100
TZNAME:CET
DTSTART:20201025T010000
END:STANDARD
BEGIN:DAYLIGHT
TZOFFSETFROM:+0100
TZOFFSETTO:+0200
TZNAME:CEST
DTSTART:20210328T010000
END:DAYLIGHT
BEGIN:STANDARD
TZOFFSETFROM:+0200
TZOFFSETTO:+0100
TZNAME:CET
DTSTART:20211031T010000
END:STANDARD
BEGIN:DAYLIGHT
TZOFFSETFROM:+0100
TZOFFSETTO:+0200
TZNAME:CEST
DTSTART:20220327T010000
END:DAYLIGHT
BEGIN:STANDARD
TZOFFSETFROM:+0200
TZOFFSETTO:+0100
TZNAME:CET
DTSTART:20221030T010000
END:STANDARD
END:VTIMEZONE
BEGIN:VEVENT
DTSTART;TZID=Europe/Zurich:20210324T201500
DTEND;TZID=Europe/Zurich:20210324T223000
DTSTAMP:20260421T071523
CREATED:20210315T202830Z
LAST-MODIFIED:20210316T101601Z
UID:9832-1616616900-1616625000@verts-ge.ch
SUMMARY:Assemblée générale – Prises de position pour la votation du 13 juin 2021
DESCRIPTION:
URL:https://verts-ge.ch/event/assemblee-generale-prises-de-position-pour-la-votation-du-13-juin-2021/
LOCATION:En ligne
END:VEVENT
END:VCALENDAR