BEGIN:VCALENDAR
VERSION:2.0
PRODID:-//Les Vert·e·s genevois·es - ECPv6.15.15//NONSGML v1.0//EN
CALSCALE:GREGORIAN
METHOD:PUBLISH
X-WR-CALNAME:Les Vert·e·s genevois·es
X-ORIGINAL-URL:https://verts-ge.ch
X-WR-CALDESC:Évènements pour Les Vert·e·s genevois·es
REFRESH-INTERVAL;VALUE=DURATION:PT1H
X-Robots-Tag:noindex
X-PUBLISHED-TTL:PT1H
BEGIN:VTIMEZONE
TZID:Europe/Zurich
BEGIN:DAYLIGHT
TZOFFSETFROM:+0100
TZOFFSETTO:+0200
TZNAME:CEST
DTSTART:20220327T010000
END:DAYLIGHT
BEGIN:STANDARD
TZOFFSETFROM:+0200
TZOFFSETTO:+0100
TZNAME:CET
DTSTART:20221030T010000
END:STANDARD
BEGIN:DAYLIGHT
TZOFFSETFROM:+0100
TZOFFSETTO:+0200
TZNAME:CEST
DTSTART:20230326T010000
END:DAYLIGHT
BEGIN:STANDARD
TZOFFSETFROM:+0200
TZOFFSETTO:+0100
TZNAME:CET
DTSTART:20231029T010000
END:STANDARD
BEGIN:DAYLIGHT
TZOFFSETFROM:+0100
TZOFFSETTO:+0200
TZNAME:CEST
DTSTART:20240331T010000
END:DAYLIGHT
BEGIN:STANDARD
TZOFFSETFROM:+0200
TZOFFSETTO:+0100
TZNAME:CET
DTSTART:20241027T010000
END:STANDARD
END:VTIMEZONE
BEGIN:VEVENT
DTSTART;TZID=Europe/Zurich:20230303T180000
DTEND;TZID=Europe/Zurich:20230303T220000
DTSTAMP:20260422T015809
CREATED:20230215T143146Z
LAST-MODIFIED:20230215T143146Z
UID:14025-1677866400-1677880800@verts-ge.ch
SUMMARY:Bal de campagne des Vert·e·s Arve & Lac
DESCRIPTION:
URL:https://verts-ge.ch/event/bal-de-campagne-des-vert%c2%b7e%c2%b7s-arve-lac/
LOCATION:Ferme de la Touvière\, Rte du Carre-d'Aval 10\, Meinier\, 1252
END:VEVENT
END:VCALENDAR