BEGIN:VCALENDAR
VERSION:2.0
PRODID:-//Les Vert·e·s genevois·es - ECPv6.15.15//NONSGML v1.0//EN
CALSCALE:GREGORIAN
METHOD:PUBLISH
X-WR-CALNAME:Les Vert·e·s genevois·es
X-ORIGINAL-URL:https://verts-ge.ch
X-WR-CALDESC:Évènements pour Les Vert·e·s genevois·es
REFRESH-INTERVAL;VALUE=DURATION:PT1H
X-Robots-Tag:noindex
X-PUBLISHED-TTL:PT1H
BEGIN:VTIMEZONE
TZID:Europe/Zurich
BEGIN:DAYLIGHT
TZOFFSETFROM:+0100
TZOFFSETTO:+0200
TZNAME:CEST
DTSTART:20210328T010000
END:DAYLIGHT
BEGIN:STANDARD
TZOFFSETFROM:+0200
TZOFFSETTO:+0100
TZNAME:CET
DTSTART:20211031T010000
END:STANDARD
BEGIN:DAYLIGHT
TZOFFSETFROM:+0100
TZOFFSETTO:+0200
TZNAME:CEST
DTSTART:20220327T010000
END:DAYLIGHT
BEGIN:STANDARD
TZOFFSETFROM:+0200
TZOFFSETTO:+0100
TZNAME:CET
DTSTART:20221030T010000
END:STANDARD
BEGIN:DAYLIGHT
TZOFFSETFROM:+0100
TZOFFSETTO:+0200
TZNAME:CEST
DTSTART:20230326T010000
END:DAYLIGHT
BEGIN:STANDARD
TZOFFSETFROM:+0200
TZOFFSETTO:+0100
TZNAME:CET
DTSTART:20231029T010000
END:STANDARD
END:VTIMEZONE
BEGIN:VEVENT
DTSTART;TZID=Europe/Zurich:20221010T180000
DTEND;TZID=Europe/Zurich:20221010T200000
DTSTAMP:20260421T063458
CREATED:20221003T132142Z
LAST-MODIFIED:20221005T083025Z
UID:13016-1665424800-1665432000@verts-ge.ch
SUMMARY:Conseil d'État 2023 - Apéritif de lancement de campagne
DESCRIPTION:
URL:https://verts-ge.ch/event/conseil-detat-2023-aperitif-de-lancement-de-campagne/
LOCATION:Un R de Famille\, Rue Goetz-Monin 10\, Genève\, 1205\, Suisse
END:VEVENT
END:VCALENDAR